BEGIN:VCALENDAR
VERSION:2.0
PRODID:-//eventon.com NONSGML v1.0//EN
CALSCALE:GREGORIAN
METHOD:PUBLISH
BEGIN:VEVENT
UID:69ea24dbe2fc7
DTSTAMP:20260423T135539Z
DTSTART:20251025T100000Z
DTEND:20251025T140000Z
LOCATION:North Park Subaru 9635 San Pedro Ave\,  San Antonio\,  TX 78216
SUMMARY:Halloween Wooftacular Pet Event
DESCRIPTION:October kicks off Subaru Loves Pets® month and we are excited 
 to partner with North Park Subaru to help find loving homes for pets in nee
 d! That&#8217;s not all! Join us for the Animal Defense League and North Pa
 rk Subaru Halloween Wooftacular event! Get ready for a spooky and spectacu
 lar day[..]\nhttps://adltexas.org/news/events/halloween-wooftacular-pet-eve
 nt-3/
URL:https://adltexas.org/news/events/halloween-wooftacular-pet-event-3/
END:VEVENT
END:VCALENDAR