BEGIN:VCALENDAR
VERSION:2.0
PRODID:-//eventon.com NONSGML v1.0//EN
CALSCALE:GREGORIAN
METHOD:PUBLISH
BEGIN:VEVENT
UID:69e4d709702a9
DTSTAMP:20260419T132217Z
DTSTART:20181007T110000Z
DTEND:20181007T160000Z
LOCATION:H-E-B BULVERDE ROAD/LOOP 1604 17238 Bulverde Rd
SUMMARY:Bulverde & 1604 H-E-B Offsite Adoption Event
DESCRIPTION:Bulverde &amp; 1604 H-E-B Offsite Adoption Event ADL will be ou
 t at Bulverde Rd &amp; 1604 H-E-B with adoptable pets! We&#8217;ll be there
  from 11 am &#8211; 4 pm on Saturday\,  Oct 6th! Stop by to say hello and p
 ossibly find a new furry friend! A big thank you to[..]\nhttps://adltexas.o
 rg/es/news/events/bulverde-1604-h-e-b-offsite-adoption-event/
URL:https://adltexas.org/es/news/events/bulverde-1604-h-e-b-offsite-adoption-event/
END:VEVENT
END:VCALENDAR